BEGIN:VCALENDAR
VERSION:2.0
PRODID:Spatie calendar-links
BEGIN:VEVENT
UID:86385319ffff19a14fa44b736db69067
SUMMARY:test
DTSTAMP:20250930T050000Z
DTSTART:20250930T050000Z
DTEND:20250930T050000Z
LOCATION:765 Mifflin Rd\, Jackson\, TN\, United States
END:VEVENT
END:VCALENDAR